BEGIN:VCALENDAR
VERSION:2.0
PRODID:-//Hamilton County Soil and Water Conservation District - ECPv6.15.20//NONSGML v1.0//EN
CALSCALE:GREGORIAN
METHOD:PUBLISH
X-ORIGINAL-URL:https://hamcoswcd.org
X-WR-CALDESC:Events for Hamilton County Soil and Water Conservation District
REFRESH-INTERVAL;VALUE=DURATION:PT1H
X-Robots-Tag:noindex
X-PUBLISHED-TTL:PT1H
BEGIN:VTIMEZONE
TZID:UTC
BEGIN:STANDARD
TZOFFSETFROM:+0000
TZOFFSETTO:+0000
TZNAME:UTC
DTSTART:20240101T000000
END:STANDARD
END:VTIMEZONE
BEGIN:VTIMEZONE
TZID:America/New_York
BEGIN:DAYLIGHT
TZOFFSETFROM:-0500
TZOFFSETTO:-0400
TZNAME:EDT
DTSTART:20240310T070000
END:DAYLIGHT
BEGIN:STANDARD
TZOFFSETFROM:-0400
TZOFFSETTO:-0500
TZNAME:EST
DTSTART:20241103T060000
END:STANDARD
BEGIN:DAYLIGHT
TZOFFSETFROM:-0500
TZOFFSETTO:-0400
TZNAME:EDT
DTSTART:20250309T070000
END:DAYLIGHT
BEGIN:STANDARD
TZOFFSETFROM:-0400
TZOFFSETTO:-0500
TZNAME:EST
DTSTART:20251102T060000
END:STANDARD
BEGIN:DAYLIGHT
TZOFFSETFROM:-0500
TZOFFSETTO:-0400
TZNAME:EDT
DTSTART:20260308T070000
END:DAYLIGHT
BEGIN:STANDARD
TZOFFSETFROM:-0400
TZOFFSETTO:-0500
TZNAME:EST
DTSTART:20261101T060000
END:STANDARD
END:VTIMEZONE
BEGIN:VEVENT
DTSTART;TZID=UTC:20250918T091500
DTEND;TZID=UTC:20250918T124500
DTSTAMP:20260423T120704
CREATED:20250619T172323Z
LAST-MODIFIED:20250724T173417Z
UID:50818-1758186900-1758199500@hamcoswcd.org
SUMMARY:Conservation Field Day
DESCRIPTION:Check back for registration.
URL:https://hamcoswcd.org/event/water-testing-program-4/
LOCATION:Hamilton County SWCD office  103 County View Drive Lake Pleasant NY 12108\, Hamilton County SWCD office 103 County View Drive Lake Pleasant\, Lake Pleasant\, NY\, 12108\, United States
ATTACH;FMTTYPE=image/webp:https://hamcoswcd.org/wp-content/uploads/2025/06/image-2-1.webp
END:VEVENT
BEGIN:VEVENT
DTSTART;TZID=UTC:20250915T083000
DTEND;TZID=UTC:20250915T120000
DTSTAMP:20260423T120704
CREATED:20250619T172056Z
LAST-MODIFIED:20250711T082740Z
UID:50814-1757925000-1757937600@hamcoswcd.org
SUMMARY:Water Testing Program
DESCRIPTION:Find out if your drinking or swimming water is safe.  Analytes include bacteriological\, lead and copper\, and a water chemistry panel.  Pick up a kit at Arietta\, Benson\, Hope\, or Wells town offices during business hours\, outside the Indian Lake town office at all times\, or at the District’s lower entryway at all times\, 103 County View Dr.\, Lake Pleasant.  Kits cannot be shipped.
URL:https://hamcoswcd.org/event/water-testing-program-2/
LOCATION:Hamilton County SWCD office  103 County View Drive Lake Pleasant NY 12108\, Hamilton County SWCD office 103 County View Drive Lake Pleasant\, Lake Pleasant\, NY\, 12108\, United States
ATTACH;FMTTYPE=image/webp:https://hamcoswcd.org/wp-content/uploads/2025/06/image-1-1.webp
END:VEVENT
BEGIN:VEVENT
DTSTART;TZID=UTC:20250818T083000
DTEND;TZID=UTC:20250818T120000
DTSTAMP:20260423T120704
CREATED:20250619T172143Z
LAST-MODIFIED:20250711T082751Z
UID:50816-1755505800-1755518400@hamcoswcd.org
SUMMARY:Water Testing Program
DESCRIPTION:Find out if your drinking or swimming water is safe.  Analytes include bacteriological\, lead and copper\, and a water chemistry panel.  Pick up a kit at Arietta\, Benson\, Hope\, or Wells town offices during business hours\, outside the Indian Lake town office at all times\, or at the District’s lower entryway at all times\, 103 County View Dr.\, Lake Pleasant.  Kits cannot be shipped.
URL:https://hamcoswcd.org/event/water-testing-program-3/
LOCATION:Hamilton County SWCD office  103 County View Drive Lake Pleasant NY 12108\, Hamilton County SWCD office 103 County View Drive Lake Pleasant\, Lake Pleasant\, NY\, 12108\, United States
ATTACH;FMTTYPE=image/webp:https://hamcoswcd.org/wp-content/uploads/2025/06/image-1-1.webp
END:VEVENT
BEGIN:VEVENT
DTSTART;TZID=America/New_York:20250721T083000
DTEND;TZID=America/New_York:20250721T120000
DTSTAMP:20260423T120704
CREATED:20250711T061516Z
LAST-MODIFIED:20250711T082806Z
UID:51021-1753086600-1753099200@hamcoswcd.org
SUMMARY:Water Testing Program
DESCRIPTION:Find out if your drinking or swimming water is safe.  Analytes include bacteriological\, lead and copper\, and a water chemistry panel.  Pick up a kit at Arietta\, Benson\, Hope\, or Wells town offices during business hours\, outside the Indian Lake town office at all times\, or at the District’s lower entryway at all times\, 103 County View Dr.\, Lake Pleasant.  Kits cannot be shipped.
URL:https://hamcoswcd.org/event/water-testing-program-5/
LOCATION:Hamilton County SWCD office  103 County View Drive Lake Pleasant NY 12108\, Hamilton County SWCD office 103 County View Drive Lake Pleasant\, Lake Pleasant\, NY\, 12108\, United States
ATTACH;FMTTYPE=image/webp:https://hamcoswcd.org/wp-content/uploads/2025/06/image-1-1.webp
END:VEVENT
BEGIN:VEVENT
DTSTART;TZID=UTC:20250621T083000
DTEND;TZID=UTC:20250621T120000
DTSTAMP:20260423T120704
CREATED:20250619T171917Z
LAST-MODIFIED:20250711T061214Z
UID:50811-1750494600-1750507200@hamcoswcd.org
SUMMARY:Water Testing Program
DESCRIPTION:Find out if your drinking or swimming water is safe.  Analytes include bacteriological\, lead and copper\, and a water chemistry panel.  Pick up a kit at Arietta\, Benson\, Hope\, or Wells town offices during business hours\, outside the Indian Lake town office at all times\, or at the District’s lower entryway at all times\, 103 County View Dr.\, Lake Pleasant.  Kits cannot be shipped.
URL:https://hamcoswcd.org/event/water-testing-program/
LOCATION:Hamilton County SWCD office  103 County View Drive Lake Pleasant NY 12108\, Hamilton County SWCD office 103 County View Drive Lake Pleasant\, Lake Pleasant\, NY\, 12108\, United States
ATTACH;FMTTYPE=image/png:https://hamcoswcd.org/wp-content/uploads/2025/06/image.png
END:VEVENT
END:VCALENDAR